BEGIN:VCALENDAR
VERSION:2.0
PRODID:-//wp-events-plugin.com//6.6.4.1//EN
TZID:Europe/Paris
X-WR-TIMEZONE:Europe/Paris
BEGIN:VEVENT
UID:99@acorea.fr
DTSTART;TZID=Europe/Paris:20260606T093000
DTEND;TZID=Europe/Paris:20260606T170000
DTSTAMP:20260407T163215Z
URL:https://acorea.fr/evenements/entrainement-aux-3-cycles-4/
SUMMARY:Entraînement aux 3 cycles
DESCRIPTION:Pour renforcer sa pratique et vivre l'adaptabilité des 3 Cycle
 s\, en présentiel à Paris. \nPour les sophrologues et élèves en format
 ion. 
ATTACH;FMTTYPE=image/jpeg:https://acorea.fr/wp-content/uploads/2023/12/Lie
 u-Adele-Picot.jpg
CATEGORIES:Accompagnement professionnel,Entraînement et analyse
 Vivantielle,Sophrologie Caycedienne
LOCATION:Adèle Picot\, 39 rue Notre-Dame des Champs\, Paris\, Île-de-Fran
 ce\, 75006\, Île de France\, France
GEO:48.844912;2.329206
X-APPLE-STRUCTURED-LOCATION;VALUE=URI;X-ADDRESS=39 rue Notre-Dame des Champ
 s\, Paris\, Île-de-France\, 75006\, Île de France\, France;X-APPLE-RADIU
 S=100;X-TITLE=Adèle Picot:geo:48.844912,2.329206
END:VEVENT
BEGIN:VTIMEZONE
TZID:Europe/Paris
X-LIC-LOCATION:Europe/Paris
BEGIN:DAYLIGHT
DTSTART:20260329T030000
TZOFFSETFROM:+0100
TZOFFSETTO:+0200
TZNAME:CEST
END:DAYLIGHT
END:VTIMEZONE
END:VCALENDAR